BEGIN:VCALENDAR
VERSION:2.0
PRODID:-//Gwinnett Young Professionals - ECPv6.15.20//NONSGML v1.0//EN
CALSCALE:GREGORIAN
METHOD:PUBLISH
X-ORIGINAL-URL:https://gwinnettyoungprofessionals.com
X-WR-CALDESC:Events for Gwinnett Young Professionals
REFRESH-INTERVAL;VALUE=DURATION:PT1H
X-Robots-Tag:noindex
X-PUBLISHED-TTL:PT1H
BEGIN:VTIMEZONE
TZID:America/New_York
BEGIN:DAYLIGHT
TZOFFSETFROM:-0500
TZOFFSETTO:-0400
TZNAME:EDT
DTSTART:20250309T070000
END:DAYLIGHT
BEGIN:STANDARD
TZOFFSETFROM:-0400
TZOFFSETTO:-0500
TZNAME:EST
DTSTART:20251102T060000
END:STANDARD
BEGIN:DAYLIGHT
TZOFFSETFROM:-0500
TZOFFSETTO:-0400
TZNAME:EDT
DTSTART:20260308T070000
END:DAYLIGHT
BEGIN:STANDARD
TZOFFSETFROM:-0400
TZOFFSETTO:-0500
TZNAME:EST
DTSTART:20261101T060000
END:STANDARD
BEGIN:DAYLIGHT
TZOFFSETFROM:-0500
TZOFFSETTO:-0400
TZNAME:EDT
DTSTART:20270314T070000
END:DAYLIGHT
BEGIN:STANDARD
TZOFFSETFROM:-0400
TZOFFSETTO:-0500
TZNAME:EST
DTSTART:20271107T060000
END:STANDARD
END:VTIMEZONE
BEGIN:VEVENT
DTSTART;TZID=America/New_York:20260210T080000
DTEND;TZID=America/New_York:20260210T093000
DTSTAMP:20260421T105807
CREATED:20260113T151340Z
LAST-MODIFIED:20260113T173420Z
UID:10000700-1770710400-1770715800@gwinnettyoungprofessionals.com
SUMMARY:Morning Mixer @ 22 Eight Events
DESCRIPTION:Register\n			\n				\n				\n				\n				\n				Morning momentum\, meaningful connections\, and a fresh start to February! Presented by Next Move ATL\, GYP’s February Morning Mixer is headed to 22Eight Events in Norcross. Join us from 8:00-9:30 AM for coffee\, light bites\, and networking that sets the tone for your day. \nStart your morning with open networking in an environment known for hosting elevated\, well-executed experiences. 22EIGHT Events provides the perfect backdrop for bringing Gwinnett’s young professionals together. \nThis monthly Morning Mixer is all about keeping the new-year energy alive as you create space to build relationships\, exchange ideas\, and stay engaged early in 2026. Expect welcoming professional networking\, meaningful conversations\, and a few engaging moments designed to make the morning feel both productive and inspiring. \nFebruary mornings with GYP are just getting started. Come ready to connect\, collaborate\, and leave your morning feeling energized. We can’t wait to see you there! \nWhen: Tuesday\, February 10th 2026 | 8:00am – 9:30am\nWhere: 4790 Peachtree Industrial Blvd Ste 103\, Norcross\, GA 30071\nWho’s invited? All young professionals between the ages of 21-35 who either live\, work\, or play in Gwinnett County are invited to come.\nWhat’s included in my ticket? Each registration ticket includes admission to the event and access to coffee and breakfast bites. \nTicket Pricing\nEarly Bird Admission: $10 (Now – 1/12/2026)\nAdmission: $15 (1/13/2026 – 1/26/2026)\nLast Call Admission: $20 (1/27/2026 – 2/10/2026)\n			\n			\n				\n				\n				\n				\n			\n				\n				\n				\n				\n				\n				\n				\n				\n				\n				\n				Sponsors
URL:https://gwinnettyoungprofessionals.com/event/morning-mixer-22-eight-events/
LOCATION:22Eight Events\, 4790 Peachtree Industrial Blvd Suite 103\, Norcross\, GA\, 30071\, United States
CATEGORIES:YP Events
ATTACH;FMTTYPE=image/jpeg:https://gwinnettyoungprofessionals.com/wp-content/uploads/2026/01/gyp-mm-social-22eight.jpg
ORGANIZER;CN="Melissa Ramirez":MAILTO:mramirez@gwinnettchamber.org
END:VEVENT
END:VCALENDAR