BEGIN:VCALENDAR
VERSION:2.0
PRODID:-//Gwinnett Young Professionals - ECPv6.15.20//NONSGML v1.0//EN
CALSCALE:GREGORIAN
METHOD:PUBLISH
X-ORIGINAL-URL:https://gwinnettyoungprofessionals.com
X-WR-CALDESC:Events for Gwinnett Young Professionals
REFRESH-INTERVAL;VALUE=DURATION:PT1H
X-Robots-Tag:noindex
X-PUBLISHED-TTL:PT1H
BEGIN:VTIMEZONE
TZID:America/New_York
BEGIN:DAYLIGHT
TZOFFSETFROM:-0500
TZOFFSETTO:-0400
TZNAME:EDT
DTSTART:20240310T070000
END:DAYLIGHT
BEGIN:STANDARD
TZOFFSETFROM:-0400
TZOFFSETTO:-0500
TZNAME:EST
DTSTART:20241103T060000
END:STANDARD
BEGIN:DAYLIGHT
TZOFFSETFROM:-0500
TZOFFSETTO:-0400
TZNAME:EDT
DTSTART:20250309T070000
END:DAYLIGHT
BEGIN:STANDARD
TZOFFSETFROM:-0400
TZOFFSETTO:-0500
TZNAME:EST
DTSTART:20251102T060000
END:STANDARD
BEGIN:DAYLIGHT
TZOFFSETFROM:-0500
TZOFFSETTO:-0400
TZNAME:EDT
DTSTART:20260308T070000
END:DAYLIGHT
BEGIN:STANDARD
TZOFFSETFROM:-0400
TZOFFSETTO:-0500
TZNAME:EST
DTSTART:20261101T060000
END:STANDARD
END:VTIMEZONE
BEGIN:VEVENT
DTSTART;TZID=America/New_York:20251211T173000
DTEND;TZID=America/New_York:20251211T200000
DTSTAMP:20260425T084436
CREATED:20250911T142903Z
LAST-MODIFIED:20251126T141749Z
UID:10000695-1765474200-1765483200@gwinnettyoungprofessionals.com
SUMMARY:GYP Holiday Happy Hour at Aloft Lawrenceville Sugarloaf
DESCRIPTION:Register\n			\n				\n				\n				\n				\n				What is it? GYP’s Annual Holiday Happy Hour is an Off The Clock networking event\, bringing young professionals together to celebrate the season with signature cocktails\, holiday games and competitions\, raffle prizes\, and plenty of opportunities to connect. \nEach year\, this festive gathering also supports a local nonprofit making an impact in Gwinnett. This year’s beneficiary is Beyond The Ribbon\, whose mission is to provide support and resources beyond the diagnosis of cancer—educating\, inspiring hope\, cultivating awareness\, and empowering individuals throughout their journey and beyond. \nJoin us at the Aloft Lawrenceville Sugarloaf for an evening of holiday cheer\, meaningful connections\, and community impact! \nWhen: Thursday December 11th\, 2025 \nWhere is it? Aloft Lawrenceville Sugarloaf (2110 N Brown Rd Lawrenceville GA 30043) \nWho’s invited? Young professionals between the ages of 21-35 who live\, work\, or play in Gwinnett County. \nWhat do I wear? Wear your best and brightest holiday attire! \nWhat’s included in my ticket? Admission to the event\, drink ticket\, and food. \nInstructions: Free parking in hotel parking lot or in mall lot next to hotel that can be accessed by crossing the road. \n\nBeneficiary: Beyond The Ribbon \n  \nTicket Pricing \nEarly Bird Admission: $30 (now through 10/30/25) \nAdmission: $35 (10/31/25 – 11/26/2025) \nLast Call Admission: $40 (11/27/25 -12/11/25) \n			\n			\n				\n				\n				\n				\n			\n				\n				\n			\n				\n				\n				\n				\n				\n				\n				\n				\n				\n				\n				\n				\n				\n				\n				\n				\n				\n				SPONSORS
URL:https://gwinnettyoungprofessionals.com/event/gyp-holiday-happy-hour-at-aloft-lawrenceville-sugarloaf/
LOCATION:Aloft Lawrenceville Sugarloaf\, 2110 N Brown Rd\, Lawrenceville\, 30043\, United States
CATEGORIES:YP Events
ATTACH;FMTTYPE=image/jpeg:https://gwinnettyoungprofessionals.com/wp-content/uploads/2025/09/gyp-holiday-happy-hour-web.jpg
ORGANIZER;CN="Melissa Ramirez":MAILTO:mramirez@gwinnettchamber.org
END:VEVENT
END:VCALENDAR